BEGIN:VCALENDAR
VERSION:2.0
PRODID:http://www.pfarrei-pruemer-land.de
BEGIN:VEVENT
UID:82074a2e-3dfa-11f1-a3e9-0242ac11002b-1785430800000-de
DTSTAMP:20260422T032235Z
DTSTART:20260730T170000Z
DTEND:20260730T173000Z
SUMMARY;LANGUAGE=de: Friedensgebet 
URL:http://www.pfarrei-pruemer-land.de/aktuelles/gottesdienste/gottesdienst/Friedensgebet-2026.07.30/
END:VEVENT
END:VCALENDAR
