BEGIN:VCALENDAR
VERSION:2.0
PRODID:http://www.pfarrei-pruemer-land.de
BEGIN:VEVENT
UID:84388216-3dfa-11f1-a3e9-0242ac11002b-1785430800000-de
DTSTAMP:20260422T032239Z
DTSTART:20260730T170000Z
DTEND:20260730T180000Z
SUMMARY;LANGUAGE=de: Anbetung u. Beichtgelegenheit im Chorgestühl der Basilika (Pfr. Kipper) 
END:VEVENT
END:VCALENDAR
