BEGIN:VCALENDAR
VERSION:2.0
PRODID:http://www.pfarrei-pruemer-land.de
BEGIN:VEVENT
UID:f18e1df2-3f8c-11f1-a3e9-0242ac11002b-1785603600000-de
DTSTAMP:20260424T032320Z
DTSTART:20260801T170000Z
DTEND:20260801T174500Z
SUMMARY;LANGUAGE=de: Festhochamt zum Patronatsfest  (Hl. Fides, Spes u. Caritas in Überschrift)  oder am 2.8. im Hochamt?? 
END:VEVENT
END:VCALENDAR
